BEGIN:VCALENDAR
VERSION:2.0
PRODID:-//ChamberMaster//Event Calendar 2.0//EN
METHOD:PUBLISH
X-PUBLISHED-TTL:P3D
REFRESH-INTERVAL:P3D
CALSCALE:GREGORIAN
BEGIN:VEVENT
DTSTART:20070826T230000Z
DTEND:20070827T000000Z
X-MICROSOFT-CDO-ALLDAYEVENT:FALSE
SUMMARY:Auditions for "Fuddy Meers" - 56 River St.
DESCRIPTION:Director Yvonne Pilarczyk seeks 3 Women 25-65\, 4 Men 18-60 for this dark comedy which runs Fri/Sat October 12 - 27.
X-ALT-DESC;FMTTYPE=text/html:Director Yvonne Pilarczyk seeks 3 Women 25-65\, 4 Men 18-60 for this dark comedy which runs Fri/Sat October 12 - 27.
LOCATION:River Street Playhouse - 56 River St.
UID:e.806.6712
SEQUENCE:3
DTSTAMP:20260424T110543Z
URL:https://www.cvcc.org/events/details/auditions-for-fuddy-meers-56-river-st-08-26-2007-6712
END:VEVENT

END:VCALENDAR
