BEGIN:VCALENDAR
VERSION:2.0
PRODID:-//ChamberMaster//Event Calendar 2.0//EN
METHOD:PUBLISH
X-PUBLISHED-TTL:P3D
REFRESH-INTERVAL:P3D
CALSCALE:GREGORIAN
BEGIN:VEVENT
DTSTART:20071117T000000Z
DTEND:20071117T040000Z
X-MICROSOFT-CDO-ALLDAYEVENT:FALSE
SUMMARY:Chagrin Falls Historical Society Film Night
DESCRIPTION:Chagrin Falls Historical Society will be screening "The Gathering" at CVLT.
X-ALT-DESC;FMTTYPE=text/html:Chagrin Falls Historical Society will be screening "The Gathering" at CVLT.
LOCATION:Main Stage
UID:e.806.6713
SEQUENCE:3
DTSTAMP:20260424T064715Z
URL:https://www.cvcc.org/events/details/chagrin-falls-historical-society-film-night-11-17-2007-6713
END:VEVENT

END:VCALENDAR
