BEGIN:VCALENDAR
VERSION:2.0
PRODID:-//ChamberMaster//Event Calendar 2.0//EN
METHOD:PUBLISH
X-PUBLISHED-TTL:P3D
REFRESH-INTERVAL:P3D
CALSCALE:GREGORIAN
BEGIN:VEVENT
DTSTART:20071020T230000Z
DTEND:20071021T020000Z
X-MICROSOFT-CDO-ALLDAYEVENT:FALSE
SUMMARY:Chagrin Light Orchestra - Land Lubber's Delight
DESCRIPTION:7:00 PM - Patron Reception \n$50/ticket (includes concert) \nA social gathering of Orchestra supports and including spirits and savory treats. \n\n8:00 PM - Concert \n$25/ticket\nPopular pirate scores including Pirates of the Caribbean\, Pirates of Penzance\, John Williams' Flight to Neverland from Hook\, and Rimsky Korsokov's Scheherazade: Sinbad's Ship Breaks Against the Cliff.
X-ALT-DESC;FMTTYPE=text/html:7:00 PM - Patron Reception \n$50/ticket (includes concert) \nA social gathering of Orchestra supports and including spirits and savory treats. \n\n8:00 PM - Concert \n$25/ticket\nPopular pirate scores including Pirates of the Caribbean\, Pirates of Penzance\, John Williams' Flight to Neverland from Hook\, and Rimsky Korsokov's Scheherazade: Sinbad's Ship Breaks Against the Cliff.
LOCATION:
UID:e.806.6710
SEQUENCE:3
DTSTAMP:20260424T080648Z
URL:https://www.cvcc.org/events/details/chagrin-light-orchestra-land-lubber-s-delight-10-20-2007-6710
END:VEVENT

END:VCALENDAR
