BEGIN:VCALENDAR
VERSION:2.0
PRODID:-//ChamberMaster//Event Calendar 2.0//EN
METHOD:PUBLISH
X-PUBLISHED-TTL:P3D
REFRESH-INTERVAL:P3D
CALSCALE:GREGORIAN
BEGIN:VEVENT
DTSTART:20080217T000000Z
DTEND:20080217T030000Z
X-MICROSOFT-CDO-ALLDAYEVENT:FALSE
SUMMARY:Chagrin Light Orchestra - Light of My Life
DESCRIPTION:7:00 PM - Patron Reception \n$50/ticket (includes concert) \nA social gathering of Orchestra supporters\, and including spirits and savory treats.\n\n8:00 PM - Concert \n$25/ticket\nRomantic music from Romeo and Juliet\, love duets by the Chagrin Light Singers\, and Schumann Piano Concerto in A minor by renowned Steinway artist Sandra Shapiro.
X-ALT-DESC;FMTTYPE=text/html:7:00 PM - Patron Reception \n$50/ticket (includes concert) \nA social gathering of Orchestra supporters\, and including spirits and savory treats.\n\n8:00 PM - Concert \n$25/ticket\nRomantic music from Romeo and Juliet\, love duets by the Chagrin Light Singers\, and Schumann Piano Concerto in A minor by renowned Steinway artist Sandra Shapiro.
LOCATION:
UID:e.806.6704
SEQUENCE:3
DTSTAMP:20260424T022832Z
URL:https://www.cvcc.org/events/details/chagrin-light-orchestra-light-of-my-life-02-17-2008-6704
END:VEVENT

END:VCALENDAR
