BEGIN:VCALENDAR
VERSION:2.0
PRODID:-//ChamberMaster//Event Calendar 2.0//EN
METHOD:PUBLISH
X-PUBLISHED-TTL:P3D
REFRESH-INTERVAL:P3D
CALSCALE:GREGORIAN
BEGIN:VEVENT
DTSTART:20080405T230000Z
DTEND:20080406T020000Z
X-MICROSOFT-CDO-ALLDAYEVENT:FALSE
SUMMARY:Chagrin Light Orchestra - Space Odyssey
DESCRIPTION:7:00 PM - Patron Reception \n$50/ticket (includes concert) \nA social gathering of Orchestra supporters\, and including spirits and savory treats.\n\n8:00 PM - Concert \n$25/ticket\nSpace-themed scores including Holst's The Planets (Mars)\, Star Trek\, Star Wars\, Strauss' fanfare from A Space Odyssey\, and more.
X-ALT-DESC;FMTTYPE=text/html:7:00 PM - Patron Reception \n$50/ticket (includes concert) \nA social gathering of Orchestra supporters\, and including spirits and savory treats.\n\n8:00 PM - Concert \n$25/ticket\nSpace-themed scores including Holst's The Planets (Mars)\, Star Trek\, Star Wars\, Strauss' fanfare from A Space Odyssey\, and more.
LOCATION:
UID:e.806.6703
SEQUENCE:3
DTSTAMP:20260423T235534Z
URL:https://www.cvcc.org/events/details/chagrin-light-orchestra-space-odyssey-04-05-2008-6703
END:VEVENT

END:VCALENDAR
