BEGIN:VCALENDAR
VERSION:2.0
PRODID:-//ChamberMaster//Event Calendar 2.0//EN
METHOD:PUBLISH
X-PUBLISHED-TTL:P3D
REFRESH-INTERVAL:P3D
CALSCALE:GREGORIAN
BEGIN:VEVENT
DTSTART:20110508T010000Z
DTEND:20110508T030000Z
X-MICROSOFT-CDO-ALLDAYEVENT:FALSE
SUMMARY:Chagrin Studio Orchestra Concert
DESCRIPTION:"Summon the Heroes"
X-ALT-DESC;FMTTYPE=text/html:"Summon the Heroes"
LOCATION:
UID:e.806.6604
SEQUENCE:3
DTSTAMP:20260421T121514Z
URL:https://www.cvcc.org/events/details/chagrin-studio-orchestra-concert-05-07-2011-6604
END:VEVENT

END:VCALENDAR
