BEGIN:VCALENDAR
VERSION:2.0
PRODID:-//ChamberMaster//Event Calendar 2.0//EN
METHOD:PUBLISH
X-PUBLISHED-TTL:P3D
REFRESH-INTERVAL:P3D
CALSCALE:GREGORIAN
BEGIN:VEVENT
DTSTART:20071224T010000Z
DTEND:20071224T030000Z
X-MICROSOFT-CDO-ALLDAYEVENT:FALSE
SUMMARY:Christmas with Chagrin Light Orchestra
DESCRIPTION:A family sing-a-long featuring  beloved Christmas carols\, a special appearance  from Santa\, and delicious holiday treats. Toast the season with a mug from the  Wassail bowl\, beginning at 6:30 p.m
X-ALT-DESC;FMTTYPE=text/html:A family sing-a-long featuring  beloved Christmas carols\, a special appearance  from Santa\, and delicious holiday treats. Toast the season with a mug from the  Wassail bowl\, beginning at 6:30 p.m
LOCATION:
UID:e.806.6709
SEQUENCE:3
DTSTAMP:20260424T052725Z
URL:https://www.cvcc.org/events/details/christmas-with-chagrin-light-orchestra-12-24-2007-6709
END:VEVENT

END:VCALENDAR
