BEGIN:VCALENDAR
VERSION:2.0
PRODID:-//ChamberMaster//Event Calendar 2.0//EN
METHOD:PUBLISH
X-PUBLISHED-TTL:P3D
REFRESH-INTERVAL:P3D
CALSCALE:GREGORIAN
BEGIN:VEVENT
DTSTART;VALUE=DATE:20081018
DTEND;VALUE=DATE:20081019
TRANSP:TRANSPARENT
X-MICROSOFT-CDO-ALLDAYEVENT:TRUE
SUMMARY:Community Variety Show
DESCRIPTION:
X-ALT-DESC;FMTTYPE=text/html:
LOCATION:
UID:e.806.6681
SEQUENCE:3
DTSTAMP:20260422T081128Z
URL:https://www.cvcc.org/events/details/community-variety-show-10-18-2008-6681
END:VEVENT

END:VCALENDAR
