BEGIN:VCALENDAR
VERSION:2.0
PRODID:-//ChamberMaster//Event Calendar 2.0//EN
METHOD:PUBLISH
X-PUBLISHED-TTL:P3D
REFRESH-INTERVAL:P3D
CALSCALE:GREGORIAN
BEGIN:VEVENT
DTSTART:20080224T190000Z
DTEND:20080224T200000Z
X-MICROSOFT-CDO-ALLDAYEVENT:FALSE
SUMMARY:CVLT Youth Theatre Performance
DESCRIPTION:
X-ALT-DESC;FMTTYPE=text/html:
LOCATION:CVLT Main Stage
UID:e.806.6701
SEQUENCE:3
DTSTAMP:20260424T025225Z
URL:https://www.cvcc.org/events/details/cvlt-youth-theatre-performance-02-24-2008-6701
END:VEVENT

END:VCALENDAR
