BEGIN:VCALENDAR
VERSION:2.0
PRODID:-//ChamberMaster//Event Calendar 2.0//EN
METHOD:PUBLISH
X-PUBLISHED-TTL:P3D
REFRESH-INTERVAL:P3D
CALSCALE:GREGORIAN
BEGIN:VEVENT
DTSTART:20071103T230000Z
DTEND:20071104T000000Z
X-MICROSOFT-CDO-ALLDAYEVENT:FALSE
SUMMARY:CVLT Youth Theatre Performance
DESCRIPTION:
X-ALT-DESC;FMTTYPE=text/html:
LOCATION:CVLT Main Stage
UID:e.806.6719
SEQUENCE:3
DTSTAMP:20260424T064307Z
URL:https://www.cvcc.org/events/details/cvlt-youth-theatre-performance-11-03-2007-6719
END:VEVENT

END:VCALENDAR
