BEGIN:VCALENDAR
VERSION:2.0
PRODID:-//ChamberMaster//Event Calendar 2.0//EN
METHOD:PUBLISH
X-PUBLISHED-TTL:P3D
REFRESH-INTERVAL:P3D
CALSCALE:GREGORIAN
BEGIN:VEVENT
DTSTART:20110101T010000Z
DTEND:20110101T020000Z
X-MICROSOFT-CDO-ALLDAYEVENT:FALSE
SUMMARY:Decades of Divas: A New Year’s Eve Cabaret
DESCRIPTION:Created by Greta Rothman\nMusical Direction: Bob Day\nChoreography: Pam LaForce\n\nBring your family and friends for an evening of musical memories with two mother and daughter teams\; Paula Pike and Greta Rothman and Pam LaForce and Alex LaForce Marzullo.\n\nCelebrate bold and brassy music from film\, pop\, and Broadway and the legendary\, powerful\, women who made the songs famous. >From Billie Holiday to Bette Midler……Liza Minnelli to Lady GaGa\, this cabaret style evening will be an uplifting way to pay homage to decades of timeless tunes while ringing in the New Year.\n\nCurtain time is 8:00pm with the show lasting 90 minutes (no intermission)\n\nTicket price is $25 per person and includes a post show wine and hors d’oeuvres reception with the performers.\n\nIf you have additional plans for when the clock strikes 12\, the format of the evening is ideal -  with the show and reception culminating well before midnight\, you will have the chance to enjoy the show and reception and still have time to move on to your final destination!
X-ALT-DESC;FMTTYPE=text/html:Created by Greta Rothman\nMusical Direction: Bob Day\nChoreography: Pam LaForce\n\nBring your family and friends for an evening of musical memories with two mother and daughter teams\; Paula Pike and Greta Rothman and Pam LaForce and Alex LaForce Marzullo.\n\nCelebrate bold and brassy music from film\, pop\, and Broadway and the legendary\, powerful\, women who made the songs famous. >From Billie Holiday to Bette Midler……Liza Minnelli to Lady GaGa\, this cabaret style evening will be an uplifting way to pay homage to decades of timeless tunes while ringing in the New Year.\n\nCurtain time is 8:00pm with the show lasting 90 minutes (no intermission)\n\nTicket price is $25 per person and includes a post show wine and hors d’oeuvres reception with the performers.\n\nIf you have additional plans for when the clock strikes 12\, the format of the evening is ideal -  with the show and reception culminating well before midnight\, you will have the chance to enjoy the show and reception and still have time to move on to your final destination!
LOCATION:
UID:e.806.6611
SEQUENCE:3
DTSTAMP:20260421T194905Z
URL:https://www.cvcc.org/events/details/decades-of-divas-a-new-year-s-eve-cabaret-01-01-2011-6611
END:VEVENT

END:VCALENDAR
