BEGIN:VCALENDAR
VERSION:2.0
PRODID:-//ChamberMaster//Event Calendar 2.0//EN
METHOD:PUBLISH
X-PUBLISHED-TTL:P3D
REFRESH-INTERVAL:P3D
CALSCALE:GREGORIAN
BEGIN:VEVENT
DTSTART:20110403T180000Z
DTEND:20110403T200000Z
X-MICROSOFT-CDO-ALLDAYEVENT:FALSE
SUMMARY:Dirty Rotten Scoundrels
DESCRIPTION:David Yazbek's hit musical\, with book by Jeffrey Lane\, based on the 1988 film of the same name. The dapper Lawrence and rascally Freddie are con-men who unsuccessfully attempt to join forces\, only to find that the town just isn't big enough for both of them. They agree to a "loser leaves town" bet over young woman and her money\, and end up getting more than either of them bargained for! Directed by Martin Freeman.
X-ALT-DESC;FMTTYPE=text/html:David Yazbek's hit musical\, with book by Jeffrey Lane\, based on the 1988 film of the same name. The dapper Lawrence and rascally Freddie are con-men who unsuccessfully attempt to join forces\, only to find that the town just isn't big enough for both of them. They agree to a "loser leaves town" bet over young woman and her money\, and end up getting more than either of them bargained for! Directed by Martin Freeman. 
LOCATION:Chagrin Valley Little Theatre
UID:e.806.6613
SEQUENCE:3
DTSTAMP:20260421T125746Z
URL:https://www.cvcc.org/events/details/dirty-rotten-scoundrels-04-03-2011-6613
END:VEVENT

END:VCALENDAR
