BEGIN:VCALENDAR
VERSION:2.0
PRODID:-//ChamberMaster//Event Calendar 2.0//EN
METHOD:PUBLISH
X-PUBLISHED-TTL:P3D
REFRESH-INTERVAL:P3D
CALSCALE:GREGORIAN
BEGIN:VEVENT
DTSTART:20110604T000000Z
DTEND:20110604T020000Z
X-MICROSOFT-CDO-ALLDAYEVENT:FALSE
SUMMARY:Don't Dress For Dinner
DESCRIPTION:Robin Hawdon's adaptation of Marc Camoletti's comedy\, a smash hit in London and Paris. A breakneck-speed\, mistaken identity farce about a man who takes his mistress to a quiet little farmhouse for a weekend getaway\, only to be hampered by his best friend\, his cook\, and more. Directed by Barbara L. Rhoades.
X-ALT-DESC;FMTTYPE=text/html:Robin Hawdon's adaptation of Marc Camoletti's comedy\, a smash hit in London and Paris. A breakneck-speed\, mistaken identity farce about a man who takes his mistress to a quiet little farmhouse for a weekend getaway\, only to be hampered by his best friend\, his cook\, and more. Directed by Barbara L. Rhoades. 
LOCATION:Chagrin Valley Little Theatre
UID:e.806.6627
SEQUENCE:3
DTSTAMP:20260421T095331Z
URL:https://www.cvcc.org/events/details/don-t-dress-for-dinner-06-03-2011-6627
END:VEVENT

END:VCALENDAR
