BEGIN:VCALENDAR
VERSION:2.0
PRODID:-//ChamberMaster//Event Calendar 2.0//EN
METHOD:PUBLISH
X-PUBLISHED-TTL:P3D
REFRESH-INTERVAL:P3D
CALSCALE:GREGORIAN
BEGIN:VEVENT
DTSTART:20090117T010000Z
DTEND:20090117T030000Z
X-MICROSOFT-CDO-ALLDAYEVENT:FALSE
SUMMARY:Doubt\, A Parable
DESCRIPTION:The 2005 Pulitzer Prize and Tony Award Winning drama by John Patrick Shanley\, in which a Catholic school principal takes on a young priest she suspects of improper relations with a male student Directed by Don Edelman.
X-ALT-DESC;FMTTYPE=text/html:The 2005 Pulitzer Prize and Tony Award Winning drama by John Patrick Shanley\, in which a Catholic school principal takes on a young priest she suspects of improper relations with a male student Directed by Don Edelman.
LOCATION:
UID:e.806.6694
SEQUENCE:3
DTSTAMP:20260420T094848Z
URL:https://www.cvcc.org/events/details/doubt-a-parable-01-16-2009-6694
END:VEVENT

END:VCALENDAR
