BEGIN:VCALENDAR
VERSION:2.0
PRODID:-//ChamberMaster//Event Calendar 2.0//EN
METHOD:PUBLISH
X-PUBLISHED-TTL:P3D
REFRESH-INTERVAL:P3D
CALSCALE:GREGORIAN
BEGIN:VEVENT
DTSTART:20101016T000000Z
DTEND:20101016T020000Z
X-MICROSOFT-CDO-ALLDAYEVENT:FALSE
SUMMARY:Dr. Jekyll and Mr. Hyde
DESCRIPTION:Jeffrey Hatcher examines the gray area between good and evil in his inventive adaptation of the Robert Louis Stevenson tale. The good Dr. Henry Jekyll drinks his own special concoction and becomes the vile Mr. Edward Hyde (played by four separate actors)\, who play a cat-and-mouse game with each other that leaves the audience to question just who they should be rooting for. Directed by Daniel Takacs.
X-ALT-DESC;FMTTYPE=text/html:Jeffrey Hatcher examines the gray area between good and evil in his inventive adaptation of the Robert Louis Stevenson tale. The good Dr. Henry Jekyll drinks his own special concoction and becomes the vile Mr. Edward Hyde (played by four separate actors)\, who play a cat-and-mouse game with each other that leaves the audience to question just who they should be rooting for. Directed by Daniel Takacs.
LOCATION:Chagrin Valley Little Theatre
UID:e.806.6624
SEQUENCE:3
DTSTAMP:20260421T225138Z
URL:https://www.cvcc.org/events/details/dr-jekyll-and-mr-hyde-10-15-2010-6624
END:VEVENT

END:VCALENDAR
