BEGIN:VCALENDAR
VERSION:2.0
PRODID:-//ChamberMaster//Event Calendar 2.0//EN
METHOD:PUBLISH
X-PUBLISHED-TTL:P3D
REFRESH-INTERVAL:P3D
CALSCALE:GREGORIAN
BEGIN:VEVENT
DTSTART;VALUE=DATE:20081026
DTEND;VALUE=DATE:20081027
TRANSP:TRANSPARENT
X-MICROSOFT-CDO-ALLDAYEVENT:TRUE
SUMMARY:Ghosts\, Goblins & Gobbledygook
DESCRIPTION:
X-ALT-DESC;FMTTYPE=text/html:
LOCATION:
UID:e.806.6679
SEQUENCE:3
DTSTAMP:20260422T044352Z
URL:https://www.cvcc.org/events/details/ghosts-goblins-gobbledygook-10-26-2008-6679
END:VEVENT

END:VCALENDAR
