BEGIN:VCALENDAR
VERSION:2.0
PRODID:-//ChamberMaster//Event Calendar 2.0//EN
METHOD:PUBLISH
X-PUBLISHED-TTL:P3D
REFRESH-INTERVAL:P3D
CALSCALE:GREGORIAN
BEGIN:VEVENT
DTSTART:20071027T180000Z
DTEND:20071027T190000Z
X-MICROSOFT-CDO-ALLDAYEVENT:FALSE
SUMMARY:Ghosts\, Goblins & Gobbledygook and
DESCRIPTION:
X-ALT-DESC;FMTTYPE=text/html:
LOCATION:
UID:e.806.6717
SEQUENCE:3
DTSTAMP:20260424T082017Z
URL:https://www.cvcc.org/events/details/ghosts-goblins-gobbledygook-and-10-27-2007-6717
END:VEVENT

END:VCALENDAR
