BEGIN:VCALENDAR
VERSION:2.0
PRODID:-//ChamberMaster//Event Calendar 2.0//EN
METHOD:PUBLISH
X-PUBLISHED-TTL:P3D
REFRESH-INTERVAL:P3D
CALSCALE:GREGORIAN
BEGIN:VEVENT
DTSTART:20080810T230000Z
DTEND:20080811T010000Z
X-MICROSOFT-CDO-ALLDAYEVENT:FALSE
SUMMARY:Guys & Dolls Auditions
DESCRIPTION:Auditions to be held at 7 PM in the River Room at CVLT for "Guys and Dolls: In Concert!"\, a non-staged reading of Frank Loesser's musical\, with full orchestra.  Performances October 3-5.  Some roles have been pre-cast.  Directed by Don Edelman\, Musical Direction by Stephen Eva.  Please come prepared with a ballad and an up-tempo song.
X-ALT-DESC;FMTTYPE=text/html:Auditions to be held at 7 PM in the River Room at CVLT for "Guys and Dolls: In Concert!"\, a non-staged reading of Frank Loesser's musical\, with full orchestra.  Performances October 3-5.  Some roles have been pre-cast.  Directed by Don Edelman\, Musical Direction by Stephen Eva.  Please come prepared with a ballad and an up-tempo song.
LOCATION:Chagrin Valley Little Theatre
UID:e.806.6672
SEQUENCE:3
DTSTAMP:20260421T105641Z
URL:https://www.cvcc.org/events/details/guys-dolls-auditions-08-10-2008-6672
END:VEVENT

END:VCALENDAR
