BEGIN:VCALENDAR
VERSION:2.0
PRODID:-//ChamberMaster//Event Calendar 2.0//EN
METHOD:PUBLISH
X-PUBLISHED-TTL:P3D
REFRESH-INTERVAL:P3D
CALSCALE:GREGORIAN
BEGIN:VEVENT
DTSTART:20081004T000000Z
DTEND:20081004T020000Z
X-MICROSOFT-CDO-ALLDAYEVENT:FALSE
SUMMARY:Guys & Dolls In Concert
DESCRIPTION:A special 'one weekend only' concert version of Frank Loesser's quintessential Broadway show\, presented in an un-staged style with full orchestra. Directed by Don Edelman and Stephen Eva.
X-ALT-DESC;FMTTYPE=text/html:A special 'one weekend only' concert version of Frank Loesser's quintessential Broadway show\, presented in an un-staged style with full orchestra. Directed by Don Edelman and Stephen Eva.
LOCATION:40 River St.
UID:e.806.6676
SEQUENCE:3
DTSTAMP:20260423T165837Z
URL:https://www.cvcc.org/events/details/guys-dolls-in-concert-10-03-2008-6676
END:VEVENT

END:VCALENDAR
