BEGIN:VCALENDAR
VERSION:2.0
PRODID:-//ChamberMaster//Event Calendar 2.0//EN
METHOD:PUBLISH
X-PUBLISHED-TTL:P3D
REFRESH-INTERVAL:P3D
CALSCALE:GREGORIAN
BEGIN:VEVENT
DTSTART:20110504T230000Z
DTEND:20110505T010000Z
X-MICROSOFT-CDO-ALLDAYEVENT:FALSE
SUMMARY:Hear Who's Here: Jenny Campbell
DESCRIPTION:Cartoonist Jenny Campbell will discuss the unusual story of how the nationally-syndicated cartoon strip “Flo   how she continues to create that cartoon strip\; and what she illustrates in addition to “Flo & Friends.” She will share the ongoing\, creative process of producing the cartoon and public reactions to it. Audience goers will enjoy watching her draw right in front of them\, as her presentation will be accompanied by paper and easel.\n\nShe will be selling greeting cards\, signed prints of her cartoon strips and other art. Her children’s books will also be available for sale\, including books from the three books she created with author Sandra J. Philipson.
X-ALT-DESC;FMTTYPE=text/html:Cartoonist Jenny Campbell will discuss the unusual story of how the nationally-syndicated cartoon strip “Flo & Friends” was developed\; how she continues to create that cartoon strip\; and what she illustrates in addition to “Flo & Friends.” She will share the ongoing\, creative process of producing the cartoon and public reactions to it. Audience goers will enjoy watching her draw right in front of them\, as her presentation will be accompanied by paper and easel.\n\nShe will be selling greeting cards\, signed prints of her cartoon strips and other art. Her children’s books will also be available for sale\, including books from the three books she created with author Sandra J. Philipson.
LOCATION:River Street Playhouse - 56 River Street\, Chagrin Falls
UID:e.806.6609
SEQUENCE:3
DTSTAMP:20260421T111248Z
URL:https://www.cvcc.org/events/details/hear-who-s-here-jenny-campbell-05-04-2011-6609
END:VEVENT

END:VCALENDAR
