BEGIN:VCALENDAR
VERSION:2.0
PRODID:-//ChamberMaster//Event Calendar 2.0//EN
METHOD:PUBLISH
X-PUBLISHED-TTL:P3D
REFRESH-INTERVAL:P3D
CALSCALE:GREGORIAN
BEGIN:VEVENT
DTSTART:20110406T230000Z
DTEND:20110407T010000Z
X-MICROSOFT-CDO-ALLDAYEVENT:FALSE
SUMMARY:Hear Who's Here: Scott Lax
DESCRIPTION:Author\, columnist and lecturer Scott Lax's presentation is called\, "Translating Personal Experience into Art." He will read from and talk about his novels\, short stories\, essays and nonfiction memoir\, and explain how he wove his experiences\, observations and imagination into each of these writing genres. And he will respond to speculation about his first novel's relationship to the Village of Chagrin Falls\, by revealing previously unknown facts concerning his 1970s-era novel "The Year That Trembled." He will also provide a literary update regarding which of the first novel's characters appear in his latest novel\, "Vengeance Follows\," which is set in present day.
X-ALT-DESC;FMTTYPE=text/html:Author\, columnist and lecturer Scott Lax's presentation is called\, "Translating Personal Experience into Art." He will read from and talk about his novels\, short stories\, essays and nonfiction memoir\, and explain how he wove his experiences\, observations and imagination into each of these writing genres. And he will respond to speculation about his first novel's relationship to the Village of Chagrin Falls\, by revealing previously unknown facts concerning his 1970s-era novel "The Year That Trembled." He will also provide a literary update regarding which of the first novel's characters appear in his latest novel\, "Vengeance Follows\," which is set in present day.
LOCATION:River Street Playhouse - 56 River Street\, Chagrin Falls
UID:e.806.6610
SEQUENCE:3
DTSTAMP:20260421T125812Z
URL:https://www.cvcc.org/events/details/hear-who-s-here-scott-lax-04-06-2011-6610
END:VEVENT

END:VCALENDAR
