BEGIN:VCALENDAR
VERSION:2.0
PRODID:-//ChamberMaster//Event Calendar 2.0//EN
METHOD:PUBLISH
X-PUBLISHED-TTL:P3D
REFRESH-INTERVAL:P3D
CALSCALE:GREGORIAN
BEGIN:VEVENT
DTSTART:20101127T010000Z
DTEND:20101127T030000Z
X-MICROSOFT-CDO-ALLDAYEVENT:FALSE
SUMMARY:Hillary: A Modern Greek Tragedy
DESCRIPTION:Yes\, that Hillary. Wendy Weiner's hilarious take on Washington's shenanigans\, which tells of the young Ms. Rodham\, who devotes her life to the Greek goddess Athena. When Aphrodite gets jealous\, she takes her revenge in the form of a man: Bill Clinton.
X-ALT-DESC;FMTTYPE=text/html:Yes\, that Hillary. Wendy Weiner's hilarious take on Washington's shenanigans\, which tells of the young Ms. Rodham\, who devotes her life to the Greek goddess Athena. When Aphrodite gets jealous\, she takes her revenge in the form of a man: Bill Clinton. 
LOCATION:CVLT's River Street Playhouse
UID:e.806.6618
SEQUENCE:3
DTSTAMP:20260421T221640Z
URL:https://www.cvcc.org/events/details/hillary-a-modern-greek-tragedy-11-26-2010-6618
END:VEVENT

END:VCALENDAR
