BEGIN:VCALENDAR
VERSION:2.0
PRODID:-//ChamberMaster//Event Calendar 2.0//EN
METHOD:PUBLISH
X-PUBLISHED-TTL:P3D
REFRESH-INTERVAL:P3D
CALSCALE:GREGORIAN
BEGIN:VEVENT
DTSTART:20091212T170000Z
DTEND:20091212T210000Z
X-MICROSOFT-CDO-ALLDAYEVENT:FALSE
SUMMARY:Holiday Show & Gingerbread Tea
DESCRIPTION:Our annual Christmas event with treats and songs for young children.
X-ALT-DESC;FMTTYPE=text/html:Our annual Christmas event with treats and songs for young children.
LOCATION:Chagrin Valley Little Theatre - 40 River St. Chagrin Falls OH 44022
UID:e.806.6658
SEQUENCE:3
DTSTAMP:20260422T160337Z
URL:https://www.cvcc.org/events/details/holiday-show-gingerbread-tea-12-12-2009-6658
END:VEVENT

END:VCALENDAR
