BEGIN:VCALENDAR
VERSION:2.0
PRODID:-//ChamberMaster//Event Calendar 2.0//EN
METHOD:PUBLISH
X-PUBLISHED-TTL:P3D
REFRESH-INTERVAL:P3D
CALSCALE:GREGORIAN
BEGIN:VEVENT
DTSTART:20071118T010000Z
DTEND:20071118T030000Z
X-MICROSOFT-CDO-ALLDAYEVENT:FALSE
SUMMARY:Honk!
DESCRIPTION:The musical retelling of Andersen’s   Ugly Duckling story. Perfect family fare for the holiday season! Get more information and buy tickets...
X-ALT-DESC;FMTTYPE=text/html: The musical retelling of Andersen’s   Ugly Duckling story. Perfect family fare for the holiday season! <a href="http://www.cvlt.org/78thSeason/honk.php">Get more information and buy tickets...
LOCATION:CVLT Main Stage
UID:e.806.6725
SEQUENCE:3
DTSTAMP:20260424T064145Z
URL:https://www.cvcc.org/events/details/honk-11-17-2007-6725
END:VEVENT

END:VCALENDAR
