BEGIN:VCALENDAR
VERSION:2.0
PRODID:-//ChamberMaster//Event Calendar 2.0//EN
METHOD:PUBLISH
X-PUBLISHED-TTL:P3D
REFRESH-INTERVAL:P3D
CALSCALE:GREGORIAN
BEGIN:VEVENT
DTSTART:20080112T010000Z
DTEND:20080112T030000Z
X-MICROSOFT-CDO-ALLDAYEVENT:FALSE
SUMMARY:Laughing Stock
DESCRIPTION:Follow backstage romances and   theatrical calamities in this hilarious send-up of summer stock theatre. Get more information and buy tickets...
X-ALT-DESC;FMTTYPE=text/html: Follow backstage romances and   theatrical calamities in this hilarious send-up of summer stock theatre. <a href="http://www.cvlt.org/78thSeason/laughingstock.php">Get more information and buy tickets...
LOCATION:River Street Playhouse
UID:e.806.6724
SEQUENCE:3
DTSTAMP:20260424T035827Z
URL:https://www.cvcc.org/events/details/laughing-stock-01-11-2008-6724
END:VEVENT

END:VCALENDAR
