BEGIN:VCALENDAR
VERSION:2.0
PRODID:-//ChamberMaster//Event Calendar 2.0//EN
METHOD:PUBLISH
X-PUBLISHED-TTL:P3D
REFRESH-INTERVAL:P3D
CALSCALE:GREGORIAN
BEGIN:VEVENT
DTSTART:20090925T000000Z
DTEND:20090925T020000Z
X-MICROSOFT-CDO-ALLDAYEVENT:FALSE
SUMMARY:Man of La Mancha
DESCRIPTION:Stephen Eva directs a 27-piece live orchestra in this special event version of the classic musical.
X-ALT-DESC;FMTTYPE=text/html:Stephen Eva directs a 27-piece live orchestra in this special event version of the classic musical.
LOCATION:40 River Street\, Chagrin Falls OH 44022
UID:e.806.6640
SEQUENCE:3
DTSTAMP:20260422T204937Z
URL:https://www.cvcc.org/events/details/man-of-la-mancha-09-24-2009-6640
END:VEVENT

END:VCALENDAR
