BEGIN:VCALENDAR
VERSION:2.0
PRODID:-//ChamberMaster//Event Calendar 2.0//EN
METHOD:PUBLISH
X-PUBLISHED-TTL:P3D
REFRESH-INTERVAL:P3D
CALSCALE:GREGORIAN
BEGIN:VEVENT
DTSTART:20080913T000000Z
DTEND:20080913T020000Z
X-MICROSOFT-CDO-ALLDAYEVENT:FALSE
SUMMARY:Master Class
DESCRIPTION:Harriet DeVeto stars in Terrence Mcnally's drama about the incomparable opera star Maria Callas\, who basks in her own glory\, gossips about the opera world\, and examines the heights and depths of her own career to discover the sacrifices we make in the name of art.
X-ALT-DESC;FMTTYPE=text/html:Harriet DeVeto stars in Terrence Mcnally's drama about the incomparable opera star Maria Callas\, who basks in her own glory\, gossips about the opera world\, and examines the heights and depths of her own career to discover the sacrifices we make in the name of art.
LOCATION:40 River St.
UID:e.806.6692
SEQUENCE:3
DTSTAMP:20260420T001406Z
URL:https://www.cvcc.org/events/details/master-class-09-12-2008-6692
END:VEVENT

END:VCALENDAR
