BEGIN:VCALENDAR
VERSION:2.0
PRODID:-//ChamberMaster//Event Calendar 2.0//EN
METHOD:PUBLISH
X-PUBLISHED-TTL:P3D
REFRESH-INTERVAL:P3D
CALSCALE:GREGORIAN
BEGIN:VEVENT
DTSTART;VALUE=DATE:20080905
DTEND;VALUE=DATE:20080906
TRANSP:TRANSPARENT
X-MICROSOFT-CDO-ALLDAYEVENT:TRUE
SUMMARY:Murder By The Falls
DESCRIPTION:
X-ALT-DESC;FMTTYPE=text/html:
LOCATION:
UID:e.806.6683
SEQUENCE:3
DTSTAMP:20260420T190745Z
URL:https://www.cvcc.org/events/details/murder-by-the-falls-09-05-2008-6683
END:VEVENT

END:VCALENDAR
