BEGIN:VCALENDAR
VERSION:2.0
PRODID:-//ChamberMaster//Event Calendar 2.0//EN
METHOD:PUBLISH
X-PUBLISHED-TTL:P3D
REFRESH-INTERVAL:P3D
CALSCALE:GREGORIAN
BEGIN:VEVENT
DTSTART:20080712T000000Z
DTEND:20080712T020000Z
X-MICROSOFT-CDO-ALLDAYEVENT:FALSE
SUMMARY:Polish Joke
DESCRIPTION:A Polish-American man avoids\, denies and eventually embraces his heritage in Ives’ surreal comedy. Get more information and buy tickets...
X-ALT-DESC;FMTTYPE=text/html:A Polish-American man avoids\, denies and eventually embraces his heritage in Ives’ surreal comedy. <a href="http://www.cvlt.org/78thSeason/polishjoke.php">Get more information and buy tickets...</a>
LOCATION:River Street Playhouse
UID:e.806.6687
SEQUENCE:3
DTSTAMP:20260421T110512Z
URL:https://www.cvcc.org/events/details/polish-joke-07-11-2008-6687
END:VEVENT

END:VCALENDAR
