BEGIN:VCALENDAR
VERSION:2.0
PRODID:-//ChamberMaster//Event Calendar 2.0//EN
METHOD:PUBLISH
X-PUBLISHED-TTL:P3D
REFRESH-INTERVAL:P3D
CALSCALE:GREGORIAN
BEGIN:VEVENT
DTSTART:20080114T000000Z
DTEND:20080114T010000Z
X-MICROSOFT-CDO-ALLDAYEVENT:FALSE
SUMMARY:Talent Show Auditions
DESCRIPTION:
X-ALT-DESC;FMTTYPE=text/html:
LOCATION:
UID:e.806.6708
SEQUENCE:3
DTSTAMP:20260423T042658Z
URL:https://www.cvcc.org/events/details/talent-show-auditions-01-14-2008-6708
END:VEVENT

END:VCALENDAR
