BEGIN:VCALENDAR
VERSION:2.0
PRODID:-//ChamberMaster//Event Calendar 2.0//EN
METHOD:PUBLISH
X-PUBLISHED-TTL:P3D
REFRESH-INTERVAL:P3D
CALSCALE:GREGORIAN
BEGIN:VEVENT
DTSTART:20100605T000000Z
DTEND:20100605T020000Z
X-MICROSOFT-CDO-ALLDAYEVENT:FALSE
SUMMARY:The Dixie Swim Club
DESCRIPTION:Five southern women maintain their life-long friendship in a poignant and surprising comedy.
X-ALT-DESC;FMTTYPE=text/html:Five southern women maintain their life-long friendship in a poignant and surprising comedy.
LOCATION:Chagrin Valley Little Theatre - 40 River Street\, Chagrin Falls OH 44022
UID:e.806.6650
SEQUENCE:3
DTSTAMP:20260422T055027Z
URL:https://www.cvcc.org/events/details/the-dixie-swim-club-06-04-2010-6650
END:VEVENT

END:VCALENDAR
