BEGIN:VCALENDAR
VERSION:2.0
PRODID:-//ChamberMaster//Event Calendar 2.0//EN
METHOD:PUBLISH
X-PUBLISHED-TTL:P3D
REFRESH-INTERVAL:P3D
CALSCALE:GREGORIAN
BEGIN:VEVENT
DTSTART:20081129T010000Z
DTEND:20081129T030000Z
X-MICROSOFT-CDO-ALLDAYEVENT:FALSE
SUMMARY:The Eight: Reindeer Monologues
DESCRIPTION:Scandal erupts at the North Pole when one of Santa's eight tiny reindeer accuses him of sexual harassment in Jeff Goode's dark\, dark Christmas comedy.
X-ALT-DESC;FMTTYPE=text/html:Scandal erupts at the North Pole when one of Santa's eight tiny reindeer accuses him of sexual harassment in Jeff Goode's dark\, dark Christmas comedy. 
LOCATION:
UID:e.806.6690
SEQUENCE:3
DTSTAMP:20260423T153051Z
URL:https://www.cvcc.org/events/details/the-eight-reindeer-monologues-11-28-2008-6690
END:VEVENT

END:VCALENDAR
