BEGIN:VCALENDAR
VERSION:2.0
PRODID:-//ChamberMaster//Event Calendar 2.0//EN
METHOD:PUBLISH
X-PUBLISHED-TTL:P3D
REFRESH-INTERVAL:P3D
CALSCALE:GREGORIAN
BEGIN:VEVENT
DTSTART:20070929T000000Z
DTEND:20070929T020000Z
X-MICROSOFT-CDO-ALLDAYEVENT:FALSE
SUMMARY:The God Committee
DESCRIPTION:The Shields Players young   adult acting group tackles medical ethics in a tense transplant drama by Mark St. Germain.  Get more information and buy tickets...
X-ALT-DESC;FMTTYPE=text/html:The Shields Players young   adult acting group tackles medical ethics in a tense transplant drama by Mark St. Germain.  <a href="http://www.cvlt.org/78thSeason/godcommittee.php">Get more information and buy tickets...</a>
LOCATION:CVLT Main Stage
UID:e.806.6726
SEQUENCE:3
DTSTAMP:20260424T093104Z
URL:https://www.cvcc.org/events/details/the-god-committee-09-28-2007-6726
END:VEVENT

END:VCALENDAR
