BEGIN:VCALENDAR
VERSION:2.0
PRODID:-//ChamberMaster//Event Calendar 2.0//EN
METHOD:PUBLISH
X-PUBLISHED-TTL:P3D
REFRESH-INTERVAL:P3D
CALSCALE:GREGORIAN
BEGIN:VEVENT
DTSTART:20101030T000000Z
DTEND:20101030T020000Z
X-MICROSOFT-CDO-ALLDAYEVENT:FALSE
SUMMARY:The Last Five Years
DESCRIPTION:Jason Robert Brown's award-winning\, intimate musical chronicle of the relationship between Jamie\, a rising-star novelist\, and Cathy\, a struggling actress\, told through innovative crossing timelines and fifteen songs that span from hilarious to heartbreaking. Directed by Jaqci Loewy. Starring Rebecca Marks and Andrew Rothman.
X-ALT-DESC;FMTTYPE=text/html:Jason Robert Brown's award-winning\, intimate musical chronicle of the relationship between Jamie\, a rising-star novelist\, and Cathy\, a struggling actress\, told through innovative crossing timelines and fifteen songs that span from hilarious to heartbreaking. Directed by Jaqci Loewy. Starring Rebecca Marks and Andrew Rothman. 
LOCATION:CVLT's River Street Playhouse
UID:e.806.6628
SEQUENCE:3
DTSTAMP:20260421T231819Z
URL:https://www.cvcc.org/events/details/the-last-five-years-10-29-2010-6628
END:VEVENT

END:VCALENDAR
