BEGIN:VCALENDAR
VERSION:2.0
PRODID:-//ChamberMaster//Event Calendar 2.0//EN
METHOD:PUBLISH
X-PUBLISHED-TTL:P3D
REFRESH-INTERVAL:P3D
CALSCALE:GREGORIAN
BEGIN:VEVENT
DTSTART:20100116T010000Z
DTEND:20100116T030000Z
X-MICROSOFT-CDO-ALLDAYEVENT:FALSE
SUMMARY:The Maltese Bodkin
DESCRIPTION:The worlds of William Shakespeare and Sam Spade collide in a comedic detective “who hath done it?” story.
X-ALT-DESC;FMTTYPE=text/html:The worlds of William Shakespeare and Sam Spade collide in a comedic detective “who hath done it?” story.
LOCATION:Chagrin Valley Little Theatre - 40 River Street\, Chagrin Falls OH 44022
UID:e.806.6656
SEQUENCE:3
DTSTAMP:20260422T135544Z
URL:https://www.cvcc.org/events/details/the-maltese-bodkin-01-15-2010-6656
END:VEVENT

END:VCALENDAR
