BEGIN:VCALENDAR
VERSION:2.0
PRODID:-//ChamberMaster//Event Calendar 2.0//EN
METHOD:PUBLISH
X-PUBLISHED-TTL:P3D
REFRESH-INTERVAL:P3D
CALSCALE:GREGORIAN
BEGIN:VEVENT
DTSTART:20080607T000000Z
DTEND:20080607T020000Z
X-MICROSOFT-CDO-ALLDAYEVENT:FALSE
SUMMARY:The Seven Year Itch
DESCRIPTION:The romantic comedy   about a married man plagued with paranoia about the model who lives   upstairs. Get more information and buy tickets...
X-ALT-DESC;FMTTYPE=text/html: The romantic comedy   about a married man plagued with paranoia about the model who lives   upstairs. <a href="78thSeason/sevenyearitch.php">Get more information and buy tickets...</a>
LOCATION:CVLT Main Stage
UID:e.806.6721
SEQUENCE:3
DTSTAMP:20260422T063838Z
URL:https://www.cvcc.org/events/details/the-seven-year-itch-06-06-2008-6721
END:VEVENT

END:VCALENDAR
