BEGIN:VCALENDAR
VERSION:2.0
PRODID:-//ChamberMaster//Event Calendar 2.0//EN
METHOD:PUBLISH
X-PUBLISHED-TTL:P3D
REFRESH-INTERVAL:P3D
CALSCALE:GREGORIAN
BEGIN:VEVENT
DTSTART:20081130T190000Z
DTEND:20081130T210000Z
X-MICROSOFT-CDO-ALLDAYEVENT:FALSE
SUMMARY:The Wizard of Oz
DESCRIPTION:The perennial musical about Dorothy from Kansas returns to the CVLT stage for the holiday season\, with the well-loved songs of Harold Arlen and E.Y. Harburg. Directed by Greta Rothman.
X-ALT-DESC;FMTTYPE=text/html:The perennial musical about Dorothy from Kansas returns to the CVLT stage for the holiday season\, with the well-loved songs of Harold Arlen and E.Y. Harburg. Directed by Greta Rothman.
LOCATION:40 River St.
UID:e.806.6688
SEQUENCE:3
DTSTAMP:20260423T142950Z
URL:https://www.cvcc.org/events/details/the-wizard-of-oz-11-30-2008-6688
END:VEVENT

END:VCALENDAR
