BEGIN:VCALENDAR
VERSION:2.0
PRODID:-//ChamberMaster//Event Calendar 2.0//EN
METHOD:PUBLISH
X-PUBLISHED-TTL:P3D
REFRESH-INTERVAL:P3D
CALSCALE:GREGORIAN
BEGIN:VEVENT
DTSTART:20070821T233000Z
DTEND:20070822T003000Z
X-MICROSOFT-CDO-ALLDAYEVENT:FALSE
SUMMARY:Thursday Morning Brass
DESCRIPTION:The Thursday Morning Brass traveling from Chautauqua\, New York\, are playing at CVLT tonight\, August 21 at 7:30 p.m. The concert is free and is rescheduled as a part of the Chautauqua/Chagrin Tuesday series.  Rain forces the Brass inside and the Theatre is pleased to host the superb eleven member group.
X-ALT-DESC;FMTTYPE=text/html:The Thursday Morning Brass traveling from Chautauqua\, New York\, are playing at CVLT tonight\, August 21 at 7:30 p.m. The concert is free and is rescheduled as a part of the Chautauqua/Chagrin Tuesday series.  Rain forces the Brass inside and the Theatre is pleased to host the superb eleven member group.
LOCATION:
UID:e.806.6711
SEQUENCE:3
DTSTAMP:20260424T110258Z
URL:https://www.cvcc.org/events/details/thursday-morning-brass-08-21-2007-6711
END:VEVENT

END:VCALENDAR
