BEGIN:VCALENDAR
VERSION:2.0
PRODID:-//ChamberMaster//Event Calendar 2.0//EN
METHOD:PUBLISH
X-PUBLISHED-TTL:P3D
REFRESH-INTERVAL:P3D
CALSCALE:GREGORIAN
BEGIN:VEVENT
DTSTART:20080726T000000Z
DTEND:20080726T020000Z
X-MICROSOFT-CDO-ALLDAYEVENT:FALSE
SUMMARY:Urinetown: The Musical
DESCRIPTION:A Tony winning\, hilariously dry\, satirical musical parodying politics and more with a toe-tapping score. Get more information and buy tickets...
X-ALT-DESC;FMTTYPE=text/html:A Tony winning\, hilariously dry\, satirical musical parodying politics and more with a toe-tapping score. <a href="http://www.cvlt.org/78thSeason/urinetown.php">Get more information and buy tickets...</a>
LOCATION:CVLT Main Stage
UID:e.806.6720
SEQUENCE:3
DTSTAMP:20260421T201551Z
URL:https://www.cvcc.org/events/details/urinetown-the-musical-07-25-2008-6720
END:VEVENT

END:VCALENDAR
