BEGIN:VCALENDAR
VERSION:2.0
PRODID:-//ChamberMaster//Event Calendar 2.0//EN
METHOD:PUBLISH
X-PUBLISHED-TTL:P3D
REFRESH-INTERVAL:P3D
CALSCALE:GREGORIAN
BEGIN:VEVENT
DTSTART:20081007T233000Z
DTEND:20081008T003000Z
X-MICROSOFT-CDO-ALLDAYEVENT:FALSE
SUMMARY:Variety Show Auditions
DESCRIPTION:
X-ALT-DESC;FMTTYPE=text/html:
LOCATION:
UID:e.806.6667
SEQUENCE:3
DTSTAMP:20260421T011411Z
URL:https://www.cvcc.org/events/details/variety-show-auditions-10-07-2008-6667
END:VEVENT

END:VCALENDAR
