BEGIN:VCALENDAR
VERSION:2.0
PRODID:-//ChamberMaster//Event Calendar 2.0//EN
METHOD:PUBLISH
X-PUBLISHED-TTL:P3D
REFRESH-INTERVAL:P3D
CALSCALE:GREGORIAN
BEGIN:VEVENT
DTSTART:20080914T230000Z
DTEND:20080915T010000Z
X-MICROSOFT-CDO-ALLDAYEVENT:FALSE
SUMMARY:"Wizard of Oz" Auditions
DESCRIPTION:Audition Dates for Ages 7-12:\nSunday\, September 14 and Monday\, September 15 at 7:00pm \n\nAudition Dates for Ages 13 and older:\nSunday\, September 21 and Monday\, September 22 at 7:00pm \n\n"And Toto too"...\nWednesday\, September 24 at 6:30pm\n\nwww.CVLT.org/auditions.php for details
X-ALT-DESC;FMTTYPE=text/html:Audition Dates for Ages 7-12:\nSunday\, September 14 and Monday\, September 15 at 7:00pm \n\nAudition Dates for Ages 13 and older:\nSunday\, September 21 and Monday\, September 22 at 7:00pm \n\n"And Toto too"...\nWednesday\, September 24 at 6:30pm\n\nwww.CVLT.org/auditions.php for details
LOCATION:40 River Street
UID:e.806.6669
SEQUENCE:3
DTSTAMP:20260423T171257Z
URL:https://www.cvcc.org/events/details/wizard-of-oz-auditions-09-14-2008-6669
END:VEVENT

END:VCALENDAR
